BEGIN:VCALENDAR
VERSION:2.0
PRODID:-//Tukios.com/
BEGIN:VEVENT
UID:1a371371-9209-45d0-8bdb-2a5b2f4be90c@www.carrillostucsonmortuary.com
DTSTAMP:20260422T021444Z
DTSTART:20260429T170000Z
DTEND:20260429T180000Z
SUMMARY:Mass
DESCRIPTION:
URL:https://www.carrillostucsonmortuary.com/obituary/ricardo-serrano
LOCATION: 1220 S 6th Ave  Tucson AZ 85713
GEO:32.2065536;-110.9689655
END:VEVENT
END:VCALENDAR