BEGIN:VCALENDAR
VERSION:2.0
PRODID:-//Tukios.com/
BEGIN:VEVENT
UID:1227f763-6d15-4cd8-9868-80900fb70d6a@www.carrillostucsonmortuary.com
DTSTAMP:20260422T022111Z
DTSTART:20260429T163000Z
DTEND:20260429T170000Z
SUMMARY:Rosary
DESCRIPTION:
URL:https://www.carrillostucsonmortuary.com/obituary/ricardo-serrano
LOCATION: 1220 S 6th Ave  Tucson AZ 85713
GEO:32.2065536;-110.9689655
END:VEVENT
END:VCALENDAR