BEGIN:VCALENDAR
VERSION:2.0
PRODID:-//Tukios.com/
BEGIN:VEVENT
UID:f9663c92-0372-426d-8b3b-d3b526e2a14d@www.carrillostucsonmortuary.com
DTSTAMP:20260422T022122Z
DTSTART:20260429T153000Z
DTEND:20260429T163000Z
SUMMARY:Visitation
DESCRIPTION:
URL:https://www.carrillostucsonmortuary.com/obituary/ricardo-serrano
LOCATION: 1220 S 6th Ave  Tucson AZ 85713
GEO:32.2065536;-110.9689655
END:VEVENT
END:VCALENDAR