BEGIN:VCALENDAR
VERSION:2.0
PRODID:-//Tukios.com/
BEGIN:VEVENT
UID:6384b8f7-1d0d-45b8-bc6a-488c24d9bc5e@www.carrillostucsonmortuary.com
DTSTAMP:20260422T021300Z
DTSTART:20260501T173000Z
DTEND:20260501T180000Z
SUMMARY:Interment
DESCRIPTION:
URL:https://www.carrillostucsonmortuary.com/obituary/luis-moreno
LOCATION: 3555 North Oracle Road  Tucson AZ 85705
GEO:32.2693027;-110.979764
END:VEVENT
END:VCALENDAR