BEGIN:VCALENDAR
VERSION:2.0
PRODID:-//Tukios.com/
BEGIN:VEVENT
UID:42e11ac2-f327-4e06-8c07-e2eeb5e8329f@www.carrillostucsonmortuary.com
DTSTAMP:20260422T021202Z
DTSTART:20260501T160000Z
DTEND:20260501T170000Z
SUMMARY:Mass
DESCRIPTION:
URL:https://www.carrillostucsonmortuary.com/obituary/luis-moreno
LOCATION: 192 S Stone Ave  Tucson AZ 85701
GEO:32.2192726;-110.9713745
END:VEVENT
END:VCALENDAR