BEGIN:VCALENDAR
VERSION:2.0
PRODID:-//Tukios.com/
BEGIN:VEVENT
UID:2324474d-7a07-4877-b941-8d69649b591f@www.carrillostucsonmortuary.com
DTSTAMP:20260422T020819Z
DTSTART:20260501T153000Z
DTEND:20260501T160000Z
SUMMARY:Rosary
DESCRIPTION:
URL:https://www.carrillostucsonmortuary.com/obituary/luis-moreno
LOCATION: 192 S Stone Ave  Tucson AZ 85701
GEO:32.2192726;-110.9713745
END:VEVENT
END:VCALENDAR