BEGIN:VCALENDAR
VERSION:2.0
PRODID:-//Tukios.com/
BEGIN:VEVENT
UID:a9fc53b5-696d-48b2-b7fb-8a23f56c99ee@www.carrillostucsonmortuary.com
DTSTAMP:20260422T020953Z
DTSTART:20260501T140000Z
DTEND:20260501T150000Z
SUMMARY:Visitation
DESCRIPTION:
URL:https://www.carrillostucsonmortuary.com/obituary/luis-moreno
LOCATION: 240 South Stone Ave  Tucson AZ 85701
GEO:32.2186605;-110.9711299
END:VEVENT
END:VCALENDAR