BEGIN:VCALENDAR
VERSION:2.0
PRODID:-//Tukios.com/
BEGIN:VEVENT
UID:1fc93cf5-9fe7-45d3-acb7-20f96ac17391@www.carrillostucsonmortuary.com
DTSTAMP:20260421T231119Z
DTSTART:20260428T173000Z
DTEND:20260428T180000Z
SUMMARY:Interment
DESCRIPTION:
URL:https://www.carrillostucsonmortuary.com/obituary/francisco-vasquez
LOCATION: 3555 North Oracle Road  Tucson AZ 85705
GEO:32.2693027;-110.979764
END:VEVENT
END:VCALENDAR