BEGIN:VCALENDAR
VERSION:2.0
PRODID:-//Tukios.com/
BEGIN:VEVENT
UID:e66fd1b5-4906-4667-bb3b-52f44170b0ea@www.carrillostucsonmortuary.com
DTSTAMP:20260421T231309Z
DTSTART:20260428T160000Z
DTEND:20260428T170000Z
SUMMARY:Mass
DESCRIPTION:
URL:https://www.carrillostucsonmortuary.com/obituary/francisco-vasquez
LOCATION: 602 W Ajo Way  Tucson AZ 85713
GEO:32.1781835;-110.9779758
END:VEVENT
END:VCALENDAR