BEGIN:VCALENDAR
VERSION:2.0
PRODID:-//Tukios.com/
BEGIN:VEVENT
UID:347a1a74-4397-4644-a1a6-e004a1e5c0ed@www.carrillostucsonmortuary.com
DTSTAMP:20260421T231429Z
DTSTART:20260428T143000Z
DTEND:20260428T150000Z
SUMMARY:Rosary
DESCRIPTION:
URL:https://www.carrillostucsonmortuary.com/obituary/francisco-vasquez
LOCATION: 240 South Stone Ave  Tucson AZ 85701
GEO:32.2186605;-110.9711299
END:VEVENT
END:VCALENDAR