BEGIN:VCALENDAR
VERSION:2.0
PRODID:-//Tukios.com/
BEGIN:VEVENT
UID:2645556e-ad26-4313-bfc0-91deb01ec43c@www.carrillostucsonmortuary.com
DTSTAMP:20260421T230701Z
DTSTART:20260428T140000Z
DTEND:20260428T153000Z
SUMMARY:Visitation
DESCRIPTION:
URL:https://www.carrillostucsonmortuary.com/obituary/francisco-vasquez
LOCATION: 240 South Stone Ave  Tucson AZ 85701
GEO:32.2186605;-110.9711299
END:VEVENT
END:VCALENDAR