BEGIN:VCALENDAR
VERSION:2.0
PRODID:-//Tukios.com/
BEGIN:VEVENT
UID:c8de0e7a-2011-4b66-9bd5-667c95ffd872@www.carrillostucsonmortuary.com
DTSTAMP:20260421T045336Z
DTSTART:20260516T160000Z
DTEND:20260516T170000Z
SUMMARY:Memorial Mass
DESCRIPTION:
URL:https://www.carrillostucsonmortuary.com/obituary/francisco-barcelo
LOCATION: 1800 North Camino Pío Décimo  Tucson AZ 85715
GEO:32.2439224;-110.8289192
END:VEVENT
END:VCALENDAR