BEGIN:VCALENDAR
VERSION:2.0
PRODID:-//Tukios.com/
BEGIN:VEVENT
UID:8a08b19e-82a0-4134-8e2f-42c6023bd01f@www.carrillostucsonmortuary.com
DTSTAMP:20260421T045612Z
DTSTART:20260516T153000Z
DTEND:20260516T163000Z
SUMMARY:Memorial Rosary
DESCRIPTION:
URL:https://www.carrillostucsonmortuary.com/obituary/francisco-barcelo
LOCATION: 1800 North Camino Pío Décimo  Tucson AZ 85715
GEO:32.2439224;-110.8289192
END:VEVENT
END:VCALENDAR