BEGIN:VCALENDAR
VERSION:2.0
PRODID:-//Tukios.com/
BEGIN:VEVENT
UID:47134a6c-f8c9-4ef5-890e-175c68bd364c@www.carrillostucsonmortuary.com
DTSTAMP:20260421T023155Z
DTSTART:20260430T163000Z
DTEND:20260430T170000Z
SUMMARY:Interment
DESCRIPTION:
URL:https://www.carrillostucsonmortuary.com/obituary/annamaria-obregon
LOCATION: 3555 North Oracle Road  Tucson AZ 85705
GEO:32.2693027;-110.979764
END:VEVENT
END:VCALENDAR