BEGIN:VCALENDAR
VERSION:2.0
PRODID:-//Tukios.com/
BEGIN:VEVENT
UID:c7f7171b-6f0a-4eb6-8df5-dcad719a1392@www.carrillostucsonmortuary.com
DTSTAMP:20260421T023034Z
DTSTART:20260430T150000Z
DTEND:20260430T160000Z
SUMMARY:Mass
DESCRIPTION:
URL:https://www.carrillostucsonmortuary.com/obituary/annamaria-obregon
LOCATION: 507 W 29th St  Tucson AZ 85713
GEO:32.1988813;-110.976603
END:VEVENT
END:VCALENDAR