BEGIN:VCALENDAR
VERSION:2.0
PRODID:-//Tukios.com/
BEGIN:VEVENT
UID:0327a15d-04ac-426e-af42-437e95429ac1@www.carrillostucsonmortuary.com
DTSTAMP:20260421T023353Z
DTSTART:20260430T143000Z
DTEND:20260430T150000Z
SUMMARY:Rosary
DESCRIPTION:
URL:https://www.carrillostucsonmortuary.com/obituary/annamaria-obregon
LOCATION: 507 W 29th St  Tucson AZ 85713
GEO:32.1988813;-110.976603
END:VEVENT
END:VCALENDAR