BEGIN:VCALENDAR
VERSION:2.0
PRODID:-//Tukios.com/
BEGIN:VEVENT
UID:97248514-7c62-4f15-a87b-65de05a1128d@www.carrillostucsonmortuary.com
DTSTAMP:20260421T023222Z
DTSTART:20260430T140000Z
DTEND:20260430T143000Z
SUMMARY:Visitation
DESCRIPTION:
URL:https://www.carrillostucsonmortuary.com/obituary/annamaria-obregon
LOCATION: 507 W 29th St  Tucson AZ 85713
GEO:32.1988813;-110.976603
END:VEVENT
END:VCALENDAR